BEGIN:VCALENDAR
VERSION:2.0
PRODID:-//TDChristian - ECPv6.15.20//NONSGML v1.0//EN
CALSCALE:GREGORIAN
METHOD:PUBLISH
X-WR-CALNAME:TDChristian
X-ORIGINAL-URL:https://tdchristian.ca
X-WR-CALDESC:Events for TDChristian
REFRESH-INTERVAL;VALUE=DURATION:PT1H
X-Robots-Tag:noindex
X-PUBLISHED-TTL:PT1H
BEGIN:VTIMEZONE
TZID:America/Toronto
BEGIN:DAYLIGHT
TZOFFSETFROM:-0500
TZOFFSETTO:-0400
TZNAME:EDT
DTSTART:20250309T070000
END:DAYLIGHT
BEGIN:STANDARD
TZOFFSETFROM:-0400
TZOFFSETTO:-0500
TZNAME:EST
DTSTART:20251102T060000
END:STANDARD
BEGIN:DAYLIGHT
TZOFFSETFROM:-0500
TZOFFSETTO:-0400
TZNAME:EDT
DTSTART:20260308T070000
END:DAYLIGHT
BEGIN:STANDARD
TZOFFSETFROM:-0400
TZOFFSETTO:-0500
TZNAME:EST
DTSTART:20261101T060000
END:STANDARD
BEGIN:DAYLIGHT
TZOFFSETFROM:-0500
TZOFFSETTO:-0400
TZNAME:EDT
DTSTART:20270314T070000
END:DAYLIGHT
BEGIN:STANDARD
TZOFFSETFROM:-0400
TZOFFSETTO:-0500
TZNAME:EST
DTSTART:20271107T060000
END:STANDARD
END:VTIMEZONE
BEGIN:VEVENT
DTSTART;TZID=America/Toronto:20260423T090000
DTEND;TZID=America/Toronto:20260423T120000
DTSTAMP:20260423T095848
CREATED:20260407T141654Z
LAST-MODIFIED:20260407T141655Z
UID:10001050-1776934800-1776945600@tdchristian.ca
SUMMARY:Kinesiology Field Trip
DESCRIPTION:
URL:https://tdchristian.ca/event/kinesiology-field-trip/
END:VEVENT
BEGIN:VEVENT
DTSTART;TZID=America/Toronto:20260423T190000
DTEND;TZID=America/Toronto:20260423T210000
DTSTAMP:20260423T095848
CREATED:20250526T023916Z
LAST-MODIFIED:20260408T224640Z
UID:10000476-1776970800-1776978000@tdchristian.ca
SUMMARY:Spring Membership Meeting
DESCRIPTION:TDChristian’s Spring Membership Meeting will be held from 7:00–9:00 p.m. in the Presentations Centre and on Zoom. You are invited to attend the meeting\, where the Board will present the budget for the 2026–27 school year\, students will share some of their learning from the semester\, and attendees will have the opportunity to learn more about and provide feedback on the 2026–2029 Strategic Plan for TDChristian. \nAttendees will receive 2.5 volunteer hours per family for attending the meeting in person at TDChristian\, or one volunteer hour per family for attending via Zoom. \nPlease RSVP below.
URL:https://tdchristian.ca/event/spring-membership-meeting-3/
CATEGORIES:General Event
END:VEVENT
BEGIN:VEVENT
DTSTART;TZID=America/Toronto:20260428T090000
DTEND;TZID=America/Toronto:20260428T140000
DTSTAMP:20260423T095848
CREATED:20250526T030648Z
LAST-MODIFIED:20260213T154641Z
UID:10000477-1777366800-1777384800@tdchristian.ca
SUMMARY:Geography 9 Trip to the ROM
DESCRIPTION:Students who are taking Geography 9 will visit the Crawford Lake exhibit and other exhibits as a part of their course.
URL:https://tdchristian.ca/event/crawford-lake-geography-9-trip-2/
CATEGORIES:School Trip
END:VEVENT
BEGIN:VEVENT
DTSTART;TZID=America/Toronto:20260428T093000
DTEND;TZID=America/Toronto:20260428T190000
DTSTAMP:20260423T095848
CREATED:20260227T191635Z
LAST-MODIFIED:20260227T191635Z
UID:10001028-1777368600-1777402800@tdchristian.ca
SUMMARY:English 9 Trip to Stratford Festival Theatre
DESCRIPTION:The English 9 classes will be travelling to Stratford to see the Shakespeare play\, The Tempest. They will depart from TDChristian at 9:30 a.m. and return between 6:45 and 7:15 p.m. Parents are asked to please arrange for a late pick up for your child from TDChristian.
URL:https://tdchristian.ca/event/english-9-trip-to-stratford-festival-theatre/
CATEGORIES:School Trip
END:VEVENT
BEGIN:VEVENT
DTSTART;VALUE=DATE:20260429
DTEND;VALUE=DATE:20260430
DTSTAMP:20260423T095848
CREATED:20260302T155902Z
LAST-MODIFIED:20260302T155902Z
UID:10001029-1777420800-1777507199@tdchristian.ca
SUMMARY:Book Club: The Final Word author event
DESCRIPTION:This event will take place in the Presentation Centre.
URL:https://tdchristian.ca/event/book-club-the-final-word-author-event/
CATEGORIES:Student Event
END:VEVENT
END:VCALENDAR